BEGIN:VCALENDAR
VERSION:2.0
PRODID:-//Gerber - ECPv5.1.1//NONSGML v1.0//EN
CALSCALE:GREGORIAN
METHOD:PUBLISH
X-WR-CALNAME:Gerber
X-ORIGINAL-URL:https://hormontherapie-bioidentisch.de
X-WR-CALDESC:Veranstaltungen im Gerber
BEGIN:VTIMEZONE
TZID:Europe/Paris
BEGIN:DAYLIGHT
TZOFFSETFROM:+0100
TZOFFSETTO:+0200
TZNAME:CEST
DTSTART:20240331T010000
END:DAYLIGHT
BEGIN:STANDARD
TZOFFSETFROM:+0200
TZOFFSETTO:+0100
TZNAME:CET
DTSTART:20241027T010000
END:STANDARD
BEGIN:DAYLIGHT
TZOFFSETFROM:+0100
TZOFFSETTO:+0200
TZNAME:CEST
DTSTART:20250330T010000
END:DAYLIGHT
BEGIN:STANDARD
TZOFFSETFROM:+0200
TZOFFSETTO:+0100
TZNAME:CET
DTSTART:20251026T010000
END:STANDARD
TZID:UTC
BEGIN:STANDARD
TZOFFSETFROM:+0000
TZOFFSETTO:+0000
TZNAME:UTC
DTSTART:20240101T000000
END:STANDARD
END:VTIMEZONE
BEGIN:VEVENT
DTSTART;VALUE=DATE:20240502
DTEND;VALUE=DATE:20250506
DTSTAMP:20260424T183242
CREATED:20180808T210014Z
LAST-MODIFIED:20241216T112537Z
UID:2054-1714636800-1746431999@hormontherapie-bioidentisch.de
SUMMARY:Anatomietraining/Präparationskurs an der Charité Berlin Universitätsklinikum für Ärzte und Heilpraktiker € 2.750\,- inkl. Tagesverpflegung
DESCRIPTION: \nDas 3-tägige firmenunabhängige Anatomietraining findet unter Leitung eines wissenschaftlichen Teams aus Ärzten\, Heilpraktikern und Präparatoren an der renommierten Charité Berlin Universitätsklinikum statt.  Der gesamte Kurs wird in den Seminar und Präparationsräumen des BeST CAT\, Berliner Chirurgisch-Anatomisches Trainings-und Simulationszentrum der Charité Berlin durchgeführt und schließt auch die Führung durch die Präsenzausstellung ein. \nDas Anatomietrainig ist von der Ärztekammer Berlin mit 20-CME Fortbildungspunkten anerkannt. \nWir haben uns bewusst für diesen Standort und Seminare mit max. 10 Teilnehmern und 4 Dozenten / 5 Humanpräparaten entschieden\, um optimale Ausbildungsvoraussetzungen zu gewährleisten und einen hohen Lernzuwachs zu ermöglichen.\nDer Präparationskurs für ästhetisch tätige Ärztinnen\, Ärzte und Heilpraktiker/innen\, die Ihre anatomischen Kenntnisse erweitern möchten\, vermittelt neues und tiefgreifendes anatomisches Wissen der Gesichtsregion zur präzisen Applikation von Fillern\, Fäden und Botox. Hierbei kommen die neuesten Techniken bei der Volumenaugmentation/ Faltenbehandlung sowie die Verwendung von spitzen versus stumpfen Kanülen und spezielle Fadentechniken zum Einsatz.\nDie Präparation der eingebrachten Materialien soll Anwendungssicherheit im Hinblick auf Gewebetiefe und Strukturen sowie Leitungsbahnen und muskuläre und nervale Lokalisationen ermöglichen. Gleichzeitig ist der Fokus auf ein adäquates Fehlermanagement ein weiterer Schritt zur sicheren Behandlung der Patienten. \n\n \n  \n  \nBeitragsbild entfernen \nZertifikat\nJeder Seminarteilnehmer erhält nach erfolgreichem Abschluss der Ausbildung ein entsprechendes Zertifikat. \n  \n \n
URL:https://hormontherapie-bioidentisch.de/seminar/anatomie-trainingpraeparationskurs
LOCATION:Universitätsklinikum Berlin Charité Mitte\, Charité Platz 1\, Berlin\, 10117\, Deutschland
CATEGORIES:Seminare
ATTACH;FMTTYPE=image/jpeg:https://hormontherapie-bioidentisch.de/wp-content/uploads/2018/08/DSC06225-scaled.jpg
END:VEVENT
BEGIN:VEVENT
DTSTART;TZID=Europe/Paris:20241123T100000
DTEND;TZID=Europe/Paris:20241123T170000
DTSTAMP:20260424T183242
CREATED:20170221T215403Z
LAST-MODIFIED:20240930T122511Z
UID:1915-1732356000-1732381200@hormontherapie-bioidentisch.de
SUMMARY:Plasma-Pen zur Entfernung von Pigmentflecken\, Muttermalen und zur Straffung/Oberlidkorrektur auch für Kosmetikerinnen
DESCRIPTION:Plasma Pen Kurs zur Anwendung bei der Oberslidstraffung und Faltenbehandlung für Ärzte\, Heilpraktiker und Kosmetiker \nDie Seminare zur Behandlung von Pigmentflecken\, Muttermalen\, Hautanhängseln und zur Straffung der Oberlider richten sich an Heilpraktiker und Kosmetikerinnen und bestehen aus einer theoretischen Einführung in das Thema der minimal invasiven Faltenbehandlung und praktischen Demonstrationen am Modell. Jeder Teilnehmer hat die Möglichkeit in Hands-On-Übungen Anwendungssicherheit im Umgang mit dem Patienten und dem Material zu erlangen. \nDie Akademie verfügt über optimal ausgestattete Schulungsräume und sieht ihren Schwerpunkt auf der qualitativ hochwertigen Ausbildung der Teilnehmer für die Anwendung in der Praxis. \nPlasma Pen Kurs für Ärzte\, Heilpraktiker und Kosmetiker \nDie Ästhetik Akademie Berlin\, www.ästhetikademie-berlin.de und www.plasamapen-schulung.de\,  ist seit vielen Jahren erfolgreich auf die Ausbildung und Qualifikation von Ärzten Heilpraktikern und Kosmetikerinnen spezialisiert. Die hochqualifizierte Ausbildung wird von zwei Top Behandlerinnen\, Heilpraktikerin und Kosmetikerin\, durchgeführt. \nDie Plasma Pen Technologie ist derzeit eines der innovativsten Verfahren im Bereich non-invasive Faltenreduktion. Mit dieser Technologie werden von Ärzten\, Heilpraktikern und Kosmetikerinnen Oberlidstraffungen\, Faltenbehandlungen von Gesicht\, Hals und Dekolleté sowie Pigmentfleckentfernungen etc. durchgeführt. \nWeitere Schwerpunkte sind Anatomie/Dermatologie zum Erkennen von Hauterkrankungen sowie kompositorische Gesichtsdarstellung\, apparative Gerätekunde sowie die neuesten Tipps zu Materialien und Techniken. \nDie Ausbildung an unserer Akademie findet in kleinen Gruppen und mit mehreren Dozenten statt und gliedert sich in einen theoretischen und einen praktischen Teil\, der an Modellen gelehrt wird. Die Ausbildung besteht aus zwei Modulen: Basisausbildung und Mastertraining und dauert in Abhängigkeit von der Teilnehmerzahl je Kurs  4-5 Stunden. Abschließend erhält jeder Teilnehmer ein Ausbildungszertifikat. \nDie Schulung kostet € 450\,- inklusive aller Kosten. \nBeide Module Plasma Pen Basis und Master können in Absprache auch an einem Tag belegt werden. \nWir schulen Firmen unabhängig und beraten zu den auf dem Markt befindlichen Geräten\, denn eine hohe Ausbildungsqualität sowie ein qualitativ hochwertiger Plasma Pen sind Voraussetzungen für professionelle Behandlungsergebnisse. \nAuch nach der Ausbildung bleiben wir bei Ihren Fragen Ansprechpartner und beraten Sie gerne. \n  \nBasiskurs:     Theorie \n\nwas ist Plasma Technologie\nAnwendungsmöglichkeiten\nAufbau der Haut/Gesichtsaufbau wie upper/middle/low face ; kompositorische Behandlung\nIndikationen/Kontraindikationen\nUnterschiede zwischen invasiven OP Techniken zur Oberlidstraffung und der non-invasiven Plasma Technologie\nMöglichkeiten und Grenzen der Plasma Pen Technologie\nVersicherung/Marketing\nPreiskalkulation\nBeratung zur Anschaffung eines Plasma Pens\, Qualitätsunterschiede\, Hersteller\nBehandlungsablauf/Aufklärung/Nachsorge/Hygiene/Anästhesie\nInformationen zum Heilungsverlauf\nBeratung/ Dokumentation/ Nachsorge/ Kontrolltermine/ Versorgungsmanagement\nHaltbarkeit/ Ergebnis/ Anzahl der Behandlung/ indikationsbezogene Behandlungstechniken\n\n  \nBasiskurs:            Praxis \n\nBesprechung Indikationen: was möchte der Patient/Klient/Kunde\nAufklärungsgespräch/Anzahl der potentiellen Behandlungen/ Behandlungsmanagement\nVorbereitung der Behandlung/ sterile Maßnahmen\nDemonstration und Behandlungen an Modellen unter Supervision der Dozenten\nKommunikation mit dem Patienten/ Klienten/Kunden während der Behandlung\nNachsorgeempfehlungen/ Wiedervorstellung\n\n  \nMasterkurs:       Theorie und Praxis \n\nAufbaukurs zum Erlernen spezieller Techniken wie Schraffieren\, Linien\, Zug-und Schiebetechnik\, 5-Punkt Methode\nFaltenbehandlungen wie Seitenlift\, Hals\, Dekolleté\, Ohrläppchen\, Narbenbehandlungen\nMinifacelift\, Behandlung von Nasolabialfalten\, Glabellafalten\, Erdbeerkinn\, Hängebäckchen\nKörperbehandlungen.\nAlle Techniken werden an Modellen gelehrt und unter Supervision der Dozenten praktiziert.\nDieser Kurs fokussiert die praktischen Anwendungen.\nModelle können mitgebracht werden oder werden gestellt.\n\n  \nJeder Seminarteilnehmer erhält nach erfolgreichem Abschluss der Ausbildung ein entsprechendes Zertifikat. \n  \n \n
URL:https://hormontherapie-bioidentisch.de/seminar/a-pigmentflecken-muttermale-zur-straffung-und-auch-fuer-kosmetikerinnen-copy-copy
LOCATION:Praxisstandort Gemeinschaftspraxis für ästhetische Medizin Berlin Steglitz\, Hubertusstr. 8\, Berlin-Stegltz\, Berlin\, 12163\, Deutschland
ATTACH;FMTTYPE=image/png:https://hormontherapie-bioidentisch.de/wp-content/uploads/2021/03/pigment.png
END:VEVENT
BEGIN:VEVENT
DTSTART;TZID=UTC:20241123T100000
DTEND;TZID=UTC:20241123T150000
DTSTAMP:20260424T183242
CREATED:20220221T184128Z
LAST-MODIFIED:20240930T122932Z
UID:2578-1732356000-1732374000@hormontherapie-bioidentisch.de
SUMMARY:THESERA Fadenlifting ohne Nadeln lizenziertes Mastertraining für Ärzte\, Heilpraktiker und Kosmetiker
DESCRIPTION:Die renommierte Ästhetik Akademie Berlin und Ihr hochqualifiziertes Team aus Ärzten\, Heilpraktikern und Fachkosmetikern bietet Ihnen eine lizenzierte Schulung von THESERA Deutschland zur nadellosen Behandlung mit innovativen Seidenfäden zur Faltenbehandlung. \nAuflösbare Seidenfäden\, die schmerzlos ohne Nadeln für einen herausragenden Liftingeffekt sorgen. Das neueste Konzept zur Hautstraffung direkt aus Korea\, dem derzeit führenden Land im Bereich Kosmetik und Faltenbehandlung. \nWir arbeiten an unseren Ausbildungs-und Praxisstandorten bereits seit vielen Jahren erfolgreich mit dem minimal-invasiven PDO-Fadenlifting\, das allerdings nur für Ärzte und Heilpraktiker zugelassen ist.\nDas revolutionäre Haut Treatment aus Korea ist eine schmerzfreie und komfortable Alternative zur Faltenbehandlung für Ihre Kunden\, die auch von Kosmetikerinnen durchgeführt werden kann.\nDie Wohlfühlbehandlung ohne Nadeln mit hervorragenden Ergebnissen zur Hautglättung ist eine neue Dimension der Faltenbehandlung mit natürlichen Seidenfäden.\nWir arbeiten in kleinen Gruppen zur effizienten Vermittlung von Theorie und Praxis.\nSie erhalten ein original Thesera Ausbildungszertifikat inkl. eines Kits für 4 Anwendungen. \nAusbildungstermine am Praxisstandort Berlin und Baden-Baden \nMärz\, April. Mai\, Juni\, Juli – Dezember 2024\njeweils von 10:00 Uhr – 15:00 Uhr \nDas Thesera L Schulungsprogramm: \nJeder Schüler erhält ein umfangreiches „Thesera L Schulungsset“ – darin enthalten: \n1 Thesera L Kit (geeignet für 4 Anwendungen)\nSchulungsmappe Theorie\n1 Offizielles Thesera L Schulungszertifikat\nThesera L Poster Din A1\nThesera L Anwenderbroschüre\n20 Thesera L Patientenflyer\nThesera gebrandete Give Aways (Stifte\, Blöcke\, Lenyards\, Tüten) nach Verfügbarkeit \nDauer: Offizielle Thesera L Schulungen dauern i.d.R. 4-5 Std.\nKosten: 699\,- EUR (inkl. dem Thesera L Kit i.H.v. 296\,31 EUR) \nSchulungen bestehen aus Theorie / Praxis / Hands-On / Fragen und Antworten \n
URL:https://hormontherapie-bioidentisch.de/seminar/thesera-fadenlifting-ohne-nadeln-lizenziertes-mastertraining-fuer-aerzte-heilpraktiker-und-kosmetiker
ATTACH;FMTTYPE=image/jpeg:https://hormontherapie-bioidentisch.de/wp-content/uploads/2022/02/20220221_172451-scaled-e1645468870728.jpg
END:VEVENT
END:VCALENDAR