BEGIN:VCALENDAR
VERSION:2.0
PRODID:-//Gerber - ECPv5.1.1//NONSGML v1.0//EN
CALSCALE:GREGORIAN
METHOD:PUBLISH
X-WR-CALNAME:Gerber
X-ORIGINAL-URL:https://hormontherapie-bioidentisch.de
X-WR-CALDESC:Veranstaltungen im Gerber
BEGIN:VTIMEZONE
TZID:Europe/Paris
BEGIN:DAYLIGHT
TZOFFSETFROM:+0100
TZOFFSETTO:+0200
TZNAME:CEST
DTSTART:20170326T010000
END:DAYLIGHT
BEGIN:STANDARD
TZOFFSETFROM:+0200
TZOFFSETTO:+0100
TZNAME:CET
DTSTART:20171029T010000
END:STANDARD
END:VTIMEZONE
BEGIN:VEVENT
DTSTART;TZID=Europe/Paris:20170305T110000
DTEND;TZID=Europe/Paris:20170305T160000
DTSTAMP:20260424T112847
CREATED:20170221T203836Z
LAST-MODIFIED:20170221T204251Z
UID:1878-1488711600-1488729600@hormontherapie-bioidentisch.de
SUMMARY:PDO Faden-Lifting Grundkurs zur Gesichtsstraffung
DESCRIPTION:Die Seminare zum PDO-Faden-Lifting  richten sich an Ärzte und Heilpraktiker und bestehen aus einer theoretischen Einführung in das Thema der minimalinvasiven Faltenbehandlung und praktischen Demonstrationen am Modell. Jeder Teilnehmer hat die Möglichkeit in Hands-On-Übungen Anwendungssicherheit im Umgang mit dem Patienten und dem Material zu erlangen. \nDie Akademie verfügt über optimal ausgestattete Schulungsräume und sieht ihren Schwerpunkt auf der qualitativ hochwertigen Ausbildung der Teilnehmer für die Anwendung in der Praxis. \n  \nKursablauf: \n\nDie Kurse gliedern sich in einen praktischen und theoretischen Teil mit Hand-Out\nHygiene Standards\, Aufklärungsbogen\nBehandlungsablauf/Dokumentation\nAufklärung und Anamnese bei der Patientin\nVorbereitung der Injektionen zur Faltenbehandlung\nSelbstständige Durchführung von Applikations/Injektionsbehandlungen unter Anleitung der Dozenten\nDie Applikation/Injektionstechniken werden an den Modellen besprochen und demonstriert\nModelle werden von der Akademie gestellt oder können mitgebracht werden\nBezugsquellen und Grundausstattung für die Behandlung\nMarktsituation/Rechtliche Hinweise\n\n  \nInhalte des theoretischen Unterrichts: \nDieser richtet sich nach dem Schwerpunkt des jeweiligen Workshops \n\nMedizinische Grundlagen und dermatologische Begriffe und Zusammenhänge\nAnatomie\nPhysiologie\nProduktinformation\nKundenbindung und Marketing\nBerufshaftpflicht\nRisiken\, Nebenwirkungen und Kontraindikationen\nHygiene und Desinfektion\nAnästhesie und ihre Vorteile / Nachteile\nGesichtsanalyse\nFallbesprechung\nApplikation/Injektionstechniken\nHinweise nach der Behandlung\n\n  \nZertifikat \nJeder Seminarteilnehmer erhält nach erfolgreichem Abschluss der Ausbildung ein entsprechendes Zertifikat. \n  \n \n
URL:https://hormontherapie-bioidentisch.de/seminar/pdo-faden-lifting-grundkurs-zur-gesichtsstraffung
LOCATION:Universitätsklinikum der Charité / Trainingszentrum BeST Cat\, Charité Platz 1\, Berlin\, Berlin\, 10117\, Deutschland
ATTACH;FMTTYPE=image/jpeg:https://hormontherapie-bioidentisch.de/wp-content/uploads/2016/05/IMG_4135.jpg
END:VEVENT
END:VCALENDAR