BEGIN:VCALENDAR
VERSION:2.0
PRODID:-//Gerber - ECPv5.1.1//NONSGML v1.0//EN
CALSCALE:GREGORIAN
METHOD:PUBLISH
X-WR-CALNAME:Gerber
X-ORIGINAL-URL:https://hormontherapie-bioidentisch.de
X-WR-CALDESC:Veranstaltungen im Gerber
BEGIN:VTIMEZONE
TZID:Europe/Paris
BEGIN:DAYLIGHT
TZOFFSETFROM:+0100
TZOFFSETTO:+0200
TZNAME:CEST
DTSTART:20210328T010000
END:DAYLIGHT
BEGIN:STANDARD
TZOFFSETFROM:+0200
TZOFFSETTO:+0100
TZNAME:CET
DTSTART:20211031T010000
END:STANDARD
END:VTIMEZONE
BEGIN:VEVENT
DTSTART;TZID=Europe/Paris:20211008T090000
DTEND;TZID=Europe/Paris:20211010T170000
DTSTAMP:20260424T100950
CREATED:20171116T102749Z
LAST-MODIFIED:20220907T150734Z
UID:2030-1633683600-1633885200@hormontherapie-bioidentisch.de
SUMMARY:NiSV SchulunNiSV Schulungen an der Charité Berlin Universitätsmedizin für Heilpraktiker/innen und Kosmetikerinnen www.nisv-schulung.de
DESCRIPTION:Fachkundenachweise zur neuen NiSV für Heilpraktiker/innen und Kosmetiker/innen \nAlle Termine und Preise unter www.nisv-schulung.de. \nNiSV Fachkundenachweise werden  in Kooperation mit der Charité Berlin\, Bereich Chirurgisch-anatomisches Trainingszentrum BeST CAT\, mit der Ästhetik Akademie Berlin geschult und sind ein völlig neues Ausbildungskonzept zum Erwerb der Fachkundemodule B-F für Heilpraktiker/innen und Kosmetiker/innen. \nIm Zuge der Qualifikation und Ausbildung von Heilpraktikern/innen und  Kosmetiker/innen sieht das Bundesministerium für Umwelt\, Naturschutz und nukleare Sicherheit mit der neuen NiSV eine Erweiterung der Ausbildungsmodalitäten für die Anwendung nichtionisierender Geräte im kosmetisch-gewerblichen Bereich zur Minimisierung der damit verbunden Risiken für den Patienten/Klienten vor. \nZur Optimierung der Behandlungssicherheit während der Anwendung von nichtionsierenden Strahlungsquellen im Bereich Kosmetik konnten wir das BeST Cat der Charité gewinnen\, die für den Fachkundenachweis B „Grundlagen der Haut und deren Anhangsgebilde“  sowie für die Fachkunde C „Optische Strahlung“\, Fachkunde D „Hochfrequenz“\, Fachkunde E „Niederfrequenz“ und Fachkunde F „Ultraschall“ ihre Mitwirkung sowie deren Hörsäle und den Anatomiebereich zur Verfügung stellt. \nDie neue NiSV -Strahlenschutz Verordnung bei kosmetischen und\nsonstigen nichtmedizinischen Anwendungen \nUnterschiedliche Anwendungen nichtionisierender Strahlungsquellen kommen derzeit ohne spezifische Ausbildungen am Menschen zu kosmetischen und sonstigen nichtmedizinischen Zwecken zum Einsatz.\nAnwendungen mit Lasern\, intensiven Lichtquellen (IPL-Geräte) oder anderen optischen Strahlungsquellen\, Ultraschallanwendungen sowie Anwendungen mit Magnetfeldern und hochfrequenten elektromagnetischen Feldern fallen ab dem 1.1.2021 unter die neue NiSV (nichtionisierende Strahlenschutzverordnung). \nBisher durften diese Behandlungen auch von Personen ohne besondere Qualifikation angeboten werden\, obwohl die damit verbundenen Gesundheitsrisiken für den Menschen erheblich sein können.\nMit einer Übergangsregelung sieht der Gesetzgeber nun eine Änderung bei der Anwendung dieser Geräte vor. Bis spätestens zum 31.12.2022 dürfen entsprechende Anwendungen nach der NiSV ausnahmslos nur mit den entsprechenden Fachkundenachweisen durchgeführt werden. \nZiel dieser Verordnung ist\, Verbraucherinnen und Verbraucher vor den schädlichen Wirkungen dieser Strahlung besser zu schützen und einheitliche und nachweisebare Behandlungsstandards zu schaffen. \nFolgende Fachkundenachweise sieht die NiSV in Abhängigkeit der zum Einsatz kommenden Geräte vor: \n\n\n\nB.\n„Grundlagen Haut und deren Anhangsgebilde“\n80 LE\n\n\nC.\n„Optische Strahlung“\n120 LE\n\n\nD.\n„EMF“ Elektromagnetische Felder (Hochfrequenz in der Kosmetik)\n40 LE\n\n\nE.\n„EMF“ Elektromagnetische Felder(Niederfrequenz\, Gleichstrom und Magnetfeldgeräte)\n24 LE\n\n\nF.\nZur Stimulation „Ultraschall“\n40 LE\n\n\n\nDie Kurse finden als Präsenzkurse an der Charité statt und haben einen E-Learning Anteil sowie einen Praxisteil und schließen immer mit einer Prüfung im jeweiligen Bereich ab. \nKursbeginn ist in Abstimmung mit der Charité und den Corona Regularien ab August 2022 \nDie Kurse müssen nach Vorgaben des Gesetzgebers und des Bundesministeriums für Umwelt\, Naturschutz und nukleare Sicherheit bis zum 31.12.2022 absolviert werden\, da ohne die entsprechenden Fachkundenachweise die benannten Geräte nicht mehr betrieben werden. \n
URL:https://hormontherapie-bioidentisch.de/seminar/nisv-schulungen-am-universitaetsklinikum-der-charite-fuer-heilpraktiker-innen-und-kosmetikerinnen
LOCATION:Universitätsklinikum der Charité / Trainingszentrum BeST Cat\, Charité Platz 1\, Berlin\, Berlin\, 10117\, Deutschland
ATTACH;FMTTYPE=image/jpeg:https://hormontherapie-bioidentisch.de/wp-content/uploads/2017/11/19.jpg
END:VEVENT
END:VCALENDAR