BEGIN:VCALENDAR
VERSION:2.0
PRODID:-//Gerber - ECPv5.1.1//NONSGML v1.0//EN
CALSCALE:GREGORIAN
METHOD:PUBLISH
X-WR-CALNAME:Gerber
X-ORIGINAL-URL:https://hormontherapie-bioidentisch.de
X-WR-CALDESC:Veranstaltungen im Gerber
BEGIN:VTIMEZONE
TZID:UTC
BEGIN:STANDARD
TZOFFSETFROM:+0000
TZOFFSETTO:+0000
TZNAME:UTC
DTSTART:20260101T000000
END:STANDARD
END:VTIMEZONE
BEGIN:VEVENT
DTSTART;TZID=UTC:20260509T083000
DTEND;TZID=UTC:20260509T130000
DTSTAMP:20260422T175940
CREATED:20220907T140607Z
LAST-MODIFIED:20260317T142703Z
UID:2599-1778315400-1778331600@hormontherapie-bioidentisch.de
SUMMARY:Botulinum und verschreibungsfreie Muskelrelaxanzien zur Faltenbehandlung für Heilpraktiker/ € 750\,- MwSt-befreit
DESCRIPTION:Ärztlich geleiteter Basiskurs zur Anwendung von Botulinum freien Muskelrelaxanzien  in der minimal-invasiven Faltenbehandlung für Ärzte und Heilpraktiker. \nBotulinum ist aus der minimal-invasiven Faltenbehandlung nicht mehr weg zu denken und ist nach wie vor die häufigste Anwendung im ästhetischen Bereich mit stetig wachsenden Nachfragen. \nAllerdings möchten viele Patienten auf dieses Neurotoxin verzichten und toxinfreie Präparate nutzen.  Auch ist Botulinum verschreibungspflichtig und für viele Heilpraktiker nicht zugänglich. \nDie Alternative sind synthetische Präparate\, die die Wirkungsweise von Botulinum aufgreifen und auf die Gesichtsmuskulatur relaxierend wirkend und so eine Falten glättende Wirkung aufweisen. \nDiese Präparate sind als sogenanntes „Biobotox“ bekannt und erfreuen sich zunehmender Beliebtheit und sind vor allem verschreibungsfrei und können damit auch von Heilpraktikern als minimal-invasive i.m Injektion eingesetzt werden. \nVoraussetzung sind die anatomischen Kenntnisse der Zielmuskulatur des Gesichts\, die komplett identisch sind mit der Zielmuskulatur für Botulinum. Lediglich das eingesetzte Präparat ist unterschiedlich. \nBei diesem Kurs werden die Hauptindikationen zur toxinfreien Muskelrelaxation Behandlung in Theorie und Praxis gelehrt. \nDies ist in der Regel die Behandlung der Stirnfalten und des Muskulus frontalis\, der Glabella\, der periocculären Kantalfalten\, die Behandlung von Mundfalten\, Plastersteinkinn und des Platysmas. \nMit diesen Indikationsgebieten werden nahezu 80% aller ästhetischen Anwendungen von Botulinum und Botulinumfreien Therapien abgedeckt. \nDie Injektion erfolgt i.m in den entsprechenden Zielmuskel\, wodurch  die Übertragung von Acetylcholin an der motorischen Endplatte gehemmt wird und somit eine Kontraktion der  infiltrierten Muskulatur temporär nicht mehr möglich ist und damit eine potentielle Faltenglättung erfolgt. \nDie Wirkung des Botulinumfreien Präparates ist wie auch das Neurotoxin Botulinum stets reversibel und muss somit in regelmäßigen Abständen wiederholt werden\, um die Wirkung zu erhalten. \nIn diesem Kurs werden auch die anatomischen Gegebenheiten der Gesichtsmuskulatur besprochen\, damit in der Praxis eine präzise und korrekte Infiltration der jeweiligen Muskeln erfolgen kann. \nDer Kurs setzt sich aus einem Theorie-und einem Praxisteil zusammen und an den Modellen und ihren Behandlungswünschen können unter ärztlicher Supervision die Verfahren erlernt oder optimiert werden. \nAuch nach der Ausbildung bleiben wir bei Ihren Fragen Ansprechpartner und beraten Sie gerne. \nJeder Teilnehmer enthält umfangreiche Skripte und ein die entsprechenden Zertifikate als Leistungsnachweise. \n
URL:https://hormontherapie-bioidentisch.de/seminar/botulinum-und-verschreibungsfreie-muskelrelaxanzien-zur-faltenbehandlung-fuer-heilpraktiker-e-550
CATEGORIES:Seminare
ATTACH;FMTTYPE=image/jpeg:https://hormontherapie-bioidentisch.de/wp-content/uploads/2017/02/Ae-Therapeut.jpg
END:VEVENT
END:VCALENDAR