BEGIN:VCALENDAR
VERSION:2.0
PRODID:-//Gerber - ECPv5.1.1//NONSGML v1.0//EN
CALSCALE:GREGORIAN
METHOD:PUBLISH
X-WR-CALNAME:Gerber
X-ORIGINAL-URL:https://hormontherapie-bioidentisch.de
X-WR-CALDESC:Veranstaltungen im Gerber
BEGIN:VTIMEZONE
TZID:Europe/Paris
BEGIN:DAYLIGHT
TZOFFSETFROM:+0100
TZOFFSETTO:+0200
TZNAME:CEST
DTSTART:20260329T010000
END:DAYLIGHT
BEGIN:STANDARD
TZOFFSETFROM:+0200
TZOFFSETTO:+0100
TZNAME:CET
DTSTART:20261025T010000
END:STANDARD
END:VTIMEZONE
BEGIN:VEVENT
DTSTART;TZID=Europe/Paris:20260509T083000
DTEND;TZID=Europe/Paris:20260509T130000
DTSTAMP:20260422T180308
CREATED:20170221T203401Z
LAST-MODIFIED:20260317T142738Z
UID:1871-1778315400-1778331600@hormontherapie-bioidentisch.de
SUMMARY:Basis Kurs zur Anwendung von Botulinum für Ärzte/Zahnärzte u.Heilprakter Kursgebühr € 750\,- MwSt. befre
DESCRIPTION:Ärztlich geleiteter Basiskurs zur Anwendung von Botulinum in der minimal-invasiven Faltenbehandlung für Ärzte und Heilpraktiker. \nDer Kompaktkurs „Ästhetiktherapeut“ für Ärzte und HP als Ausbildung zur den Techniken der minimal-invasiven Faltenbehandlung ist von der Ärztekammer Berlin mit 27 CME-Fortbildungspunkten anerkannt.\nDie Kurse sind ärztlich geleitet. \nBotulinum ist aus der minimal-invasiven Faltenbehandlung nicht mehr weg zu denken und ist nach wie vor die häufigste Anwendung im ästhetischen Bereich mit stetig wachsenden Nachfragen. \nBei diesem Kurs werden die Hauptindikationen zur Botulinum Behandlung in Theorie und Praxis gelehrt. \nDies ist in der Regel die Behandlung der Stirnfalten und des Muskulus frontalis\, der Glabella und der periocularen Kantalfalten; damit sind nahezu 80% alle ästhetischen Indikationen abgedeckt. Die Behandlung von Mundfalten\, Plastersteinkinn und des Platysmas sowie Behandlungen bei Migräne\, Depressionen und Masseterbehandlungen bei Bruxismus sind Fortgeschrittenenindikationen. \nDie Injektion von Botulinum erfolgt i.m in den entsprechenden Zielmuskel\, wodurch  die Übertragung von Acetylcholin an der motorischen Endplatte gehemmt wird und somit eine Kontraktion der  infiltrierten Muskulatur temporär nicht mehr möglich ist und damit eine Faltenglättung erfolgt. \nDie Wirkung des Neurotoxins Botulinum ist stets reversibel und muss somit in regelmäßigen Abständen wiederholt werden\, um die Wirkung zu erhalten. \nIn diesem Kurs werden auch die anatomischen Gegebenheiten der Gesichtsmuskulatur besprochen\, damit in der Praxis eine präzise und korrekte Infiltration der jeweiligen Muskeln erfolgen kann. \nDer Kurs setzt sich aus einem Theorie-und einem Praxisteil zusammen und an den Modellen und ihren Behandlungswünschen können unter ärztlicher Supervision die Verfahren erlernt oder optimiert werden. \nAuch nach der Ausbildung bleiben wir bei Ihren Fragen Ansprechpartner und beraten Sie gerne. \nJeder Teilnehmer enthält umfangreiche Skripte und ein die entsprechenden Zertifikate als Leistungsnachweise. \n
URL:https://hormontherapie-bioidentisch.de/seminar/basis-kurs-zur-anwendung-von-botulinum-fuer-aerzte-und-heilpraktiker
LOCATION:Praxisstandort Gemeinschaftspraxis für ästhetische Medizin Berlin Steglitz\, Hubertusstr. 8\, Berlin-Stegltz\, Berlin\, 12163\, Deutschland
CATEGORIES:Seminare
ATTACH;FMTTYPE=image/jpeg:https://hormontherapie-bioidentisch.de/wp-content/uploads/2017/02/Ae-Therapeut.jpg
END:VEVENT
END:VCALENDAR