BEGIN:VCALENDAR
VERSION:2.0
PRODID:-//Gerber - ECPv5.1.1//NONSGML v1.0//EN
CALSCALE:GREGORIAN
METHOD:PUBLISH
X-WR-CALNAME:Gerber
X-ORIGINAL-URL:https://hormontherapie-bioidentisch.de
X-WR-CALDESC:Veranstaltungen im Gerber
BEGIN:VTIMEZONE
TZID:UTC
BEGIN:STANDARD
TZOFFSETFROM:+0000
TZOFFSETTO:+0000
TZNAME:UTC
DTSTART:20240101T000000
END:STANDARD
END:VTIMEZONE
BEGIN:VEVENT
DTSTART;TZID=UTC:20240528T140000
DTEND;TZID=UTC:20240528T140000
DTSTAMP:20260424T083202
CREATED:20210305T122918Z
LAST-MODIFIED:20240220T100611Z
UID:2539-1716904800-1716904800@hormontherapie-bioidentisch.de
SUMMARY:Aquadermabrasion und nadellose Carboxytherapie für Heilpraktiker und Kosmetiker € 750\,-
DESCRIPTION:Aquadermabrasion und nadellose Carboxytherapie\nfür Heilpraktiker und Kosmetiker\n1-täg. Ausbildung „Aquadermabrasion“ und „nadellose Carboxy Therapie“.\nDie Ästhetik Akademie Berlin ist seit vielen Jahren erfolgreich auf die Ausbildung und Qualifikation von Ärzten Heilpraktikern und Kosmetikerinnen spezialisiert.\nDie hochqualifizierte Ausbildung mit der innovativen Aquadermabrasion/Aquafacial und der nadellosen Carboxytherapie wird von zwei Top Behandlerinnen\, Heilpraktikerin/ Praxis-und Akademieleitung und einer medizinischen Fachkosmetikerin durchgeführt. Sie richtet sich an Anfänger\, Quereinsteiger und eignet sich auch als effizientes Update für bereits tätige Kosmetikerinnen. Diese Therapien sind derzeit auf dem Markt der kosmetisch apparativen Verfahren die ultimativen Methoden im Bereich kosmetische Anwendungen.\nUnsere Schwerpunkte sind die qualitativ hochwertige Vermittlung der Techniken der perfekten Kosmetikbehandlung in Theorie und Praxis. Vor allem die richtigen Ausreiningungsverfahren wie Aquadermabrasion und die Therapie mit dem innovativen nadellosen Carboxy-Gerät für eine optimale Versorgung der Haut stehen im Zentrum dieses praxisorientierten Workshops.\nEbenso werden die notwendigen medizinisch hygienischen Standards und die Kenntnis der Strukturen der Haut und des Gesichts sowie die Kenntnis von Indikationen und Kontraindikationen bei der Behandlung vermittelt.\nWeitere Schwerpunkte sind Anatomie/Dermatologie zum Erkennen von Hauterkrankungen sowie kompositorische Gesichtsdarstellung\, apparative Gerätekunde sowie die neuesten Tipps zu Materialien und Techniken.\nDie Ausbildung an unserer Akademie findet in kleinen Gruppen und mit mehreren Dozenten statt und gliedert sich in einen theoretischen und einen praktischen Teil\, der an Modellen gelehrt wird.\nFehler-und Konfliktmanagement sind ebenso Themen der Ausbildung\, damit Unsicherheiten möglichst vermieden werden können bzw. ein adäquater und sicherer Umgang bei der Behandlung zum Wohle der Patientin/Kundin erlernt wird.\nAuch nach der Ausbildung bleiben wir bei Ihren Fragen Ansprechpartner und beraten Sie gerne.\nAbschließend erhält jeder Teilnehmer ein Ausbildungszertifikat. \nTheorie und Praxis\n– Rechtliche Grundlagen und Einleitung\n– Aquadermabrasion und nadellose Carboxytherapie\n– Aufbau der Haut/Gesichtsaufbau upper/middle/low face\n– Indikationen/Kontraindikationen/wer darf es anwenden/Fehlermanagement\n– rechtl. Aspekte/Versicherung/Marketing/Hygiene/Behandlungssicherheit\n– Dermatologie / Hauterkrankungen/Physiologie der Haut\n– Demonstration an Modellen \n  \n  \n
URL:https://hormontherapie-bioidentisch.de/seminar/aquadermabrasion-und-nadellose-carboxytherapie-fuer-heilpraktiker-und-kosmetiker
ATTACH;FMTTYPE=image/png:https://hormontherapie-bioidentisch.de/wp-content/uploads/2021/03/abbra.png
END:VEVENT
END:VCALENDAR