BEGIN:VCALENDAR
VERSION:2.0
PRODID:-//Gerber - ECPv5.1.1//NONSGML v1.0//EN
CALSCALE:GREGORIAN
METHOD:PUBLISH
X-WR-CALNAME:Gerber
X-ORIGINAL-URL:https://hormontherapie-bioidentisch.de
X-WR-CALDESC:Veranstaltungen im Gerber
BEGIN:VTIMEZONE
TZID:Europe/Paris
BEGIN:DAYLIGHT
TZOFFSETFROM:+0100
TZOFFSETTO:+0200
TZNAME:CEST
DTSTART:20260329T010000
END:DAYLIGHT
BEGIN:STANDARD
TZOFFSETFROM:+0200
TZOFFSETTO:+0100
TZNAME:CET
DTSTART:20261025T010000
END:STANDARD
END:VTIMEZONE
BEGIN:VEVENT
DTSTART;TZID=Europe/Paris:20260509T090000
DTEND;TZID=Europe/Paris:20260510T180000
DTSTAMP:20260422T174412
CREATED:20170221T213345Z
LAST-MODIFIED:20260317T142911Z
UID:1897-1778317200-1778436000@hormontherapie-bioidentisch.de
SUMMARY:Ästhetiktherapeut-Kompaktkurs für Ärzte und Heilpraktiker € 2.750\,- MwSt. befreit
DESCRIPTION:Faltenunterspritzung mit Hyaluron\, Faltenbehandlung mit Botulinum\, PDO-Faden-Lifting\, PRP Plasma-Lifting inkl. Micro-needling und  Mesotherapie\, Injektions-Lipolyse\nDer Kompaktkurs als Ausbildung zum „Ästhetiktherapeut“ für Ärzte und HP ist von der Ärztekammer Berlin mit 27 CME-Fortbildungspunkten anerkannt. \nDie Seminare beinhalten sämtliche Module der minimal invasiven Faltenbehandlung und richten sich an Ärzte und Heilpraktiker und bestehen aus einer theoretischen Einführung in das Thema der minimal invasiven Faltenbehandlung und praktischen Demonstrationen am Modell. Jeder Teilnehmer hat die Möglichkeit in Hands-On-Übungen Anwendungssicherheit im Umgang mit dem Patienten und dem Material zu erlangen. \nDie Kursdauer beträgt dabei  2 Tage und beinhaltet die Anwendung zur Faltenbehandlung mit Hyaluronsäurefillern mit stumpfer und spitzer Kanüle\, das PDO Fadenlifting\, Botulinum Beginner Therapie\, PRP Plasma Pen Therapie in Kombination mit Microneedling und Derma Pen\, Mesotherapie und Injektionslipolyse. Außerdem behandeln wir das Konfliktmanagement bei Fillern und Co \nDie Intensivausbildung richtet sich an jene Ärzte und Heilpraktiker\, die sich in kurzer Zeit mit den Möglichkeiten der minimal-invasiven Faltenbehandlung vertraut machen möchten\, um diese dann in die Praxis integrieren zu können. Mit den oben genannten Behandlungsoptionen ist bereits ein Großteil der gängigen Therapien im minimal-invasiven Bereich der ästhetische Medizin abgedeckt. \nDieser Kompaktkurs ermöglicht Ihnen an einem Wochenende die wichtigsten Verfahren der minimal-invasiven Faltenbehandlung in Theorie und Praxis zu erlernen\, um sich so einen kompakten Überblick zu verschaffen. Die Ausbildung zum Ästhetiktherapeut ist ein optimaler Einsteigerkurs für Ärzte und Heilpraktiker\, die sich mit Ihren Behandlungsoptionen erweitern möchten und Ihren Patienten die modernen Standards der minimal-invasiven Ästhetik aus einer Hand anbieten möchten. \nDie Akademie verfügt über optimal ausgestattete Schulungsräume und sieht ihren Schwerpunkt auf der qualitativ hochwertigen Ausbildung der Teilnehmer für die Anwendung in der Praxis. \nAlle Kursmodule können auch einzeln gebucht werden. \nTermine am Wochenende Freitag und Samstag von 09:00 Uhr bis 18:00 Uhr \nKompaktkurs Ausbildung zum Ästhetik Therapeut für Ärzte und Heilpraktiker \nÄrztlich und HP geleiteter Intensivkurs zur Qualifikation als Ästhetik-Therapeut  für Ärzte und Heilpraktiker. \nDieser Kurs beinhaltet eine intensive und komprimierte Variante zum effizienten und zeitnahen Erlernen der gängigen Methoden der minimal-invasiven Faltentharepie. \nDie Kursdauer beträgt dabei  2 Tage und beinhaltet die Anwendung zur Faltenbehandlung mit Hyaluronsäurefillern mit stumpfer und spitzer Kanüle\, die Anwendung von Skinboostern\, Botulinum Therapie\, PRP Plasma Pen Therapie in Kombination mit Microneedling und Derma Pen\, Mesotherapie und Injektionslipolyse. Außerdem behandeln wir das Konfliktmanagement bei Fillern und Co \nDie Intensivausbildung richtet sich an jene Ärzte und Heilpraktiker\, die in kurzer Zeit sich mit den Möglichkeiten der minimal-invasiven Faltenbehandlung vertraut machen möchten\, um diese dann in die Praxis integrieren zu können. Mit den oben genannten Behandlungsoptionen ist bereits ein Großteil der gängigen Therapien im minimal-invasiven Bereich der ästhetische Medizin abgedeckt. \nIn diesem Kurs werden auch die anatomischen Gegebenheiten der Gesichtsmuskulatur besprochen\, damit in der Praxis eine präzise und korrekte Infiltration der jeweiligen Gebiete erfolgen kann. \nDa auch das Fehler-und Konfliktmanagement im Sinne der Patientensicherheit eine essentielle Rolle bei diesen minimal-invasiven Anwendungen spielt\, werden in diesem Kurs immer wieder auf potentielle “danger zones“ bei der Behandlung hingewiesen oder Möglichkeiten des Fehlermanagements wie z.B. die Anwendung von Hyaluronidase etc. beschrieben. \nWeitere Schwerpunkte sind Anatomie/Dermatologie zum Erkennen von Hauterkrankungen sowie kompositorische Gesichtsdarstellung sowie die neuesten Tipps zu Materialien und Techniken. \nDer Kurs setzt sich aus einem Theorie-und einem Praxisteil zusammen und an den Modellen und ihren Behandlungswünschen können unter ärztlicher Supervision die Verfahren erlernt oder optimiert werden. \nAuch nach der Ausbildung bleiben wir bei Ihren Fragen Ansprechpartner und beraten Sie gerne. \nJeder Teilnehmer enthält umfangreiche Skripte und ein die entsprechenden Zertifikate als Leistungsnachweise. \nKursablauf: \n\nDie Kurse gliedern sich in einen praktischen und theoretischen Teil mit Hand-Out\nHygiene Standards\, Aufklärungsbogen\nBehandlungsablauf/Dokumentation\nAufklärung und Anamnese bei der Patientin\nVorbereitung der Injektionen zur Faltenbehandlung\nSelbstständige Durchführung von Applikations/Injektionsbehandlungen unter Anleitung der Dozenten\nDie Applikation/Injektionstechniken werden an den Modellen besprochen und demonstriert\nModelle werden von der Akademie gestellt oder können mitgebracht werden\nBezugsquellen und Grundausstattung für die Behandlung\nMarktsituation/Rechtliche Hinweise\n\n  \nInhalte des theoretischen Unterrichts: \nDieser richtet sich nach dem Schwerpunkt des jeweiligen Workshops \n\nMedizinische Grundlagen und dermatologische Begriffe und Zusammenhänge\nAnatomie\nPhysiologie\nProduktinformation\nKundenbindung und Marketing\nBerufshaftpflicht\nRisiken\, Nebenwirkungen und Kontraindikationen\nHygiene und Desinfektion\nAnästhesie und ihre Vorteile / Nachteile\nGesichtsanalyse\nFallbesprechung\nApplikation/Injektionstechniken\nHinweise nach der Behandlung\nHinweise auf die unterschiedlichen Materialien und Bezugsquellen\n\nZertifikat \nJeder Seminarteilnehmer erhält nach erfolgreichem Abschluss der Ausbildung ein entsprechendes Zertifikat. \n  \n \n
URL:https://hormontherapie-bioidentisch.de/seminar/aesthetik-power-kurs-copy
LOCATION:Praxisstandort Gemeinschaftspraxis für ästhetische Medizin Berlin Steglitz\, Hubertusstr. 8\, Berlin-Stegltz\, Berlin\, 12163\, Deutschland
CATEGORIES:Seminare
ATTACH;FMTTYPE=image/jpeg:https://hormontherapie-bioidentisch.de/wp-content/uploads/2017/02/Ae-Therapeut.jpg
END:VEVENT
END:VCALENDAR