BEGIN:VCALENDAR
VERSION:2.0
PRODID:-//Gerber - ECPv5.1.1//NONSGML v1.0//EN
CALSCALE:GREGORIAN
METHOD:PUBLISH
X-WR-CALNAME:Gerber
X-ORIGINAL-URL:https://hormontherapie-bioidentisch.de
X-WR-CALDESC:Veranstaltungen im Gerber
BEGIN:VTIMEZONE
TZID:Europe/Paris
BEGIN:DAYLIGHT
TZOFFSETFROM:+0100
TZOFFSETTO:+0200
TZNAME:CEST
DTSTART:20240331T010000
END:DAYLIGHT
BEGIN:STANDARD
TZOFFSETFROM:+0200
TZOFFSETTO:+0100
TZNAME:CET
DTSTART:20241027T010000
END:STANDARD
END:VTIMEZONE
BEGIN:VEVENT
DTSTART;TZID=Europe/Paris:20241123T100000
DTEND;TZID=Europe/Paris:20241123T170000
DTSTAMP:20260424T085110
CREATED:20170221T215403Z
LAST-MODIFIED:20240930T122511Z
UID:1915-1732356000-1732381200@hormontherapie-bioidentisch.de
SUMMARY:Plasma-Pen zur Entfernung von Pigmentflecken\, Muttermalen und zur Straffung/Oberlidkorrektur auch für Kosmetikerinnen
DESCRIPTION:Plasma Pen Kurs zur Anwendung bei der Oberslidstraffung und Faltenbehandlung für Ärzte\, Heilpraktiker und Kosmetiker \nDie Seminare zur Behandlung von Pigmentflecken\, Muttermalen\, Hautanhängseln und zur Straffung der Oberlider richten sich an Heilpraktiker und Kosmetikerinnen und bestehen aus einer theoretischen Einführung in das Thema der minimal invasiven Faltenbehandlung und praktischen Demonstrationen am Modell. Jeder Teilnehmer hat die Möglichkeit in Hands-On-Übungen Anwendungssicherheit im Umgang mit dem Patienten und dem Material zu erlangen. \nDie Akademie verfügt über optimal ausgestattete Schulungsräume und sieht ihren Schwerpunkt auf der qualitativ hochwertigen Ausbildung der Teilnehmer für die Anwendung in der Praxis. \nPlasma Pen Kurs für Ärzte\, Heilpraktiker und Kosmetiker \nDie Ästhetik Akademie Berlin\, www.ästhetikademie-berlin.de und www.plasamapen-schulung.de\,  ist seit vielen Jahren erfolgreich auf die Ausbildung und Qualifikation von Ärzten Heilpraktikern und Kosmetikerinnen spezialisiert. Die hochqualifizierte Ausbildung wird von zwei Top Behandlerinnen\, Heilpraktikerin und Kosmetikerin\, durchgeführt. \nDie Plasma Pen Technologie ist derzeit eines der innovativsten Verfahren im Bereich non-invasive Faltenreduktion. Mit dieser Technologie werden von Ärzten\, Heilpraktikern und Kosmetikerinnen Oberlidstraffungen\, Faltenbehandlungen von Gesicht\, Hals und Dekolleté sowie Pigmentfleckentfernungen etc. durchgeführt. \nWeitere Schwerpunkte sind Anatomie/Dermatologie zum Erkennen von Hauterkrankungen sowie kompositorische Gesichtsdarstellung\, apparative Gerätekunde sowie die neuesten Tipps zu Materialien und Techniken. \nDie Ausbildung an unserer Akademie findet in kleinen Gruppen und mit mehreren Dozenten statt und gliedert sich in einen theoretischen und einen praktischen Teil\, der an Modellen gelehrt wird. Die Ausbildung besteht aus zwei Modulen: Basisausbildung und Mastertraining und dauert in Abhängigkeit von der Teilnehmerzahl je Kurs  4-5 Stunden. Abschließend erhält jeder Teilnehmer ein Ausbildungszertifikat. \nDie Schulung kostet € 450\,- inklusive aller Kosten. \nBeide Module Plasma Pen Basis und Master können in Absprache auch an einem Tag belegt werden. \nWir schulen Firmen unabhängig und beraten zu den auf dem Markt befindlichen Geräten\, denn eine hohe Ausbildungsqualität sowie ein qualitativ hochwertiger Plasma Pen sind Voraussetzungen für professionelle Behandlungsergebnisse. \nAuch nach der Ausbildung bleiben wir bei Ihren Fragen Ansprechpartner und beraten Sie gerne. \n  \nBasiskurs:     Theorie \n\nwas ist Plasma Technologie\nAnwendungsmöglichkeiten\nAufbau der Haut/Gesichtsaufbau wie upper/middle/low face ; kompositorische Behandlung\nIndikationen/Kontraindikationen\nUnterschiede zwischen invasiven OP Techniken zur Oberlidstraffung und der non-invasiven Plasma Technologie\nMöglichkeiten und Grenzen der Plasma Pen Technologie\nVersicherung/Marketing\nPreiskalkulation\nBeratung zur Anschaffung eines Plasma Pens\, Qualitätsunterschiede\, Hersteller\nBehandlungsablauf/Aufklärung/Nachsorge/Hygiene/Anästhesie\nInformationen zum Heilungsverlauf\nBeratung/ Dokumentation/ Nachsorge/ Kontrolltermine/ Versorgungsmanagement\nHaltbarkeit/ Ergebnis/ Anzahl der Behandlung/ indikationsbezogene Behandlungstechniken\n\n  \nBasiskurs:            Praxis \n\nBesprechung Indikationen: was möchte der Patient/Klient/Kunde\nAufklärungsgespräch/Anzahl der potentiellen Behandlungen/ Behandlungsmanagement\nVorbereitung der Behandlung/ sterile Maßnahmen\nDemonstration und Behandlungen an Modellen unter Supervision der Dozenten\nKommunikation mit dem Patienten/ Klienten/Kunden während der Behandlung\nNachsorgeempfehlungen/ Wiedervorstellung\n\n  \nMasterkurs:       Theorie und Praxis \n\nAufbaukurs zum Erlernen spezieller Techniken wie Schraffieren\, Linien\, Zug-und Schiebetechnik\, 5-Punkt Methode\nFaltenbehandlungen wie Seitenlift\, Hals\, Dekolleté\, Ohrläppchen\, Narbenbehandlungen\nMinifacelift\, Behandlung von Nasolabialfalten\, Glabellafalten\, Erdbeerkinn\, Hängebäckchen\nKörperbehandlungen.\nAlle Techniken werden an Modellen gelehrt und unter Supervision der Dozenten praktiziert.\nDieser Kurs fokussiert die praktischen Anwendungen.\nModelle können mitgebracht werden oder werden gestellt.\n\n  \nJeder Seminarteilnehmer erhält nach erfolgreichem Abschluss der Ausbildung ein entsprechendes Zertifikat. \n  \n \n
URL:https://hormontherapie-bioidentisch.de/seminar/a-pigmentflecken-muttermale-zur-straffung-und-auch-fuer-kosmetikerinnen-copy-copy
LOCATION:Praxisstandort Gemeinschaftspraxis für ästhetische Medizin Berlin Steglitz\, Hubertusstr. 8\, Berlin-Stegltz\, Berlin\, 12163\, Deutschland
ATTACH;FMTTYPE=image/png:https://hormontherapie-bioidentisch.de/wp-content/uploads/2021/03/pigment.png
END:VEVENT
END:VCALENDAR